Package: nuCpos Version: 1.27.0 Command: /home/biocbuild/R/R/bin/R CMD check --install=check:nuCpos.install-out.txt --library=/home/biocbuild/R/R/site-library --no-vignettes --timings nuCpos_1.27.0.tar.gz StartedAt: 2025-07-18 09:24:27 -0000 (Fri, 18 Jul 2025) EndedAt: 2025-07-18 09:25:15 -0000 (Fri, 18 Jul 2025) EllapsedTime: 48.1 seconds RetCode: 0 Status: OK CheckDir: nuCpos.Rcheck Warnings: 0