Package: nuCpos Version: 1.27.0 Command: /home/biocbuild/R/R/bin/R CMD build --keep-empty-dirs --no-resave-data nuCpos StartedAt: 2025-07-18 01:42:49 -0000 (Fri, 18 Jul 2025) EndedAt: 2025-07-18 01:43:02 -0000 (Fri, 18 Jul 2025) EllapsedTime: 13.0 seconds RetCode: 0 Status: OK PackageFile: nuCpos_1.27.0.tar.gz PackageFileSize: 2.386 MiB