Package: nuCpos Version: 1.27.0 Command: F:\biocbuild\bbs-3.22-bioc\R\bin\R.exe CMD INSTALL nuCpos StartedAt: 2025-07-18 15:19:19 -0400 (Fri, 18 Jul 2025) EndedAt: 2025-07-18 15:19:33 -0400 (Fri, 18 Jul 2025) EllapsedTime: 14.0 seconds RetCode: 0 Status: OK