Package: nuCpos Version: 1.27.0 Command: F:\biocbuild\bbs-3.22-bioc\R\bin\R.exe CMD check --no-multiarch --install=check:nuCpos.install-out.txt --library=F:\biocbuild\bbs-3.22-bioc\R\library --no-vignettes --timings nuCpos_1.27.0.tar.gz StartedAt: 2025-07-19 04:51:02 -0400 (Sat, 19 Jul 2025) EndedAt: 2025-07-19 04:51:48 -0400 (Sat, 19 Jul 2025) EllapsedTime: 45.4 seconds RetCode: 0 Status: OK CheckDir: nuCpos.Rcheck Warnings: 0