Package: nuCpos Version: 1.27.0 Command: chmod a+r nuCpos -R && F:\biocbuild\bbs-3.22-bioc\R\bin\R.exe CMD build --keep-empty-dirs --no-resave-data nuCpos StartedAt: 2025-07-18 20:50:57 -0400 (Fri, 18 Jul 2025) EndedAt: 2025-07-18 20:51:18 -0400 (Fri, 18 Jul 2025) EllapsedTime: 21.4 seconds RetCode: 0 Status: OK PackageFile: nuCpos_1.27.0.tar.gz PackageFileSize: 2.269 MiB