Package: nuCpos Version: 1.27.0 Command: rm -rf nuCpos.buildbin-libdir && mkdir nuCpos.buildbin-libdir && F:\biocbuild\bbs-3.22-bioc\R\bin\R.exe CMD INSTALL --build --library=nuCpos.buildbin-libdir nuCpos_1.27.0.tar.gz StartedAt: 2025-07-19 09:42:14 -0400 (Sat, 19 Jul 2025) EndedAt: 2025-07-19 09:42:30 -0400 (Sat, 19 Jul 2025) EllapsedTime: 16.0 seconds RetCode: 0 Status: OK PackageFile: nuCpos_1.27.0.zip PackageFileSize: 1.594 MiB