Package: nuCpos Version: 1.27.0 Command: /home/biocbuild/bbs-3.22-bioc/R/bin/R CMD build --keep-empty-dirs --no-resave-data --md5 nuCpos StartedAt: 2025-07-18 18:21:05 -0400 (Fri, 18 Jul 2025) EndedAt: 2025-07-18 18:21:17 -0400 (Fri, 18 Jul 2025) EllapsedTime: 12.0 seconds RetCode: 0 Status: OK PackageFile: nuCpos_1.27.0.tar.gz PackageFileSize: 2.393 MiB