Package: nuCpos Version: 1.27.0 Command: /Library/Frameworks/R.framework/Resources/bin/R CMD INSTALL nuCpos StartedAt: 2025-07-17 15:04:30 -0400 (Thu, 17 Jul 2025) EndedAt: 2025-07-17 15:05:08 -0400 (Thu, 17 Jul 2025) EllapsedTime: 37.8 seconds RetCode: 0 Status: OK