Package: nuCpos Version: 1.27.0 Command: /Library/Frameworks/R.framework/Resources/bin/R CMD check --install=check:nuCpos.install-out.txt --library=/Library/Frameworks/R.framework/Resources/library --no-vignettes --timings nuCpos_1.27.0.tar.gz StartedAt: 2025-07-17 22:18:34 -0400 (Thu, 17 Jul 2025) EndedAt: 2025-07-17 22:19:16 -0400 (Thu, 17 Jul 2025) EllapsedTime: 41.5 seconds RetCode: 0 Status: OK CheckDir: nuCpos.Rcheck Warnings: 0