Package: npGSEA Version: 1.45.0 Command: /home/biocbuild/R/R/bin/R CMD check --install=check:npGSEA.install-out.txt --library=/home/biocbuild/R/R/site-library --no-vignettes --timings npGSEA_1.45.0.tar.gz StartedAt: 2025-07-11 10:38:57 -0000 (Fri, 11 Jul 2025) EndedAt: 2025-07-11 10:40:59 -0000 (Fri, 11 Jul 2025) EllapsedTime: 121.2 seconds RetCode: 0 Status: OK CheckDir: npGSEA.Rcheck Warnings: 0