Package: npGSEA Version: 1.45.0 Command: F:\biocbuild\bbs-3.22-bioc\R\bin\R.exe CMD INSTALL npGSEA StartedAt: 2025-08-14 16:12:27 -0400 (Thu, 14 Aug 2025) EndedAt: 2025-08-14 16:13:02 -0400 (Thu, 14 Aug 2025) EllapsedTime: 34.7 seconds RetCode: 0 Status: OK