Package: npGSEA Version: 1.45.0 Command: F:\biocbuild\bbs-3.22-bioc\R\bin\R.exe CMD check --no-multiarch --install=check:npGSEA.install-out.txt --library=F:\biocbuild\bbs-3.22-bioc\R\library --no-vignettes --timings npGSEA_1.45.0.tar.gz StartedAt: 2025-08-15 05:56:20 -0400 (Fri, 15 Aug 2025) EndedAt: 2025-08-15 05:58:28 -0400 (Fri, 15 Aug 2025) EllapsedTime: 128.2 seconds RetCode: 0 Status: OK CheckDir: npGSEA.Rcheck Warnings: 0