Package: npGSEA Version: 1.45.0 Command: rm -rf npGSEA.buildbin-libdir && mkdir npGSEA.buildbin-libdir && F:\biocbuild\bbs-3.22-bioc\R\bin\R.exe CMD INSTALL --build --library=npGSEA.buildbin-libdir npGSEA_1.45.0.tar.gz StartedAt: 2025-08-15 10:51:39 -0400 (Fri, 15 Aug 2025) EndedAt: 2025-08-15 10:52:19 -0400 (Fri, 15 Aug 2025) EllapsedTime: 39.5 seconds RetCode: 0 Status: OK PackageFile: npGSEA_1.45.0.zip PackageFileSize: 639.5 KiB