Package: npGSEA Version: 1.45.0 Command: /Library/Frameworks/R.framework/Resources/bin/R CMD build --keep-empty-dirs --no-resave-data npGSEA StartedAt: 2025-10-05 17:15:57 -0400 (Sun, 05 Oct 2025) EndedAt: 2025-10-05 17:16:13 -0400 (Sun, 05 Oct 2025) EllapsedTime: 16.2 seconds RetCode: 0 Status: OK PackageFile: npGSEA_1.45.0.tar.gz PackageFileSize: 357.1 KiB