Package: normr Version: 1.35.0 Command: /home/biocbuild/R/R/bin/R CMD build --keep-empty-dirs --no-resave-data normr StartedAt: 2025-07-11 02:40:02 -0000 (Fri, 11 Jul 2025) EndedAt: 2025-07-11 02:41:44 -0000 (Fri, 11 Jul 2025) EllapsedTime: 102.1 seconds RetCode: 0 Status: OK PackageFile: normr_1.35.0.tar.gz PackageFileSize: 3.165 MiB