Package: normr Version: 1.35.0 Command: F:\biocbuild\bbs-3.22-bioc\R\bin\R.exe CMD check --no-multiarch --install=check:normr.install-out.txt --library=F:\biocbuild\bbs-3.22-bioc\R\library --no-vignettes --timings normr_1.35.0.tar.gz StartedAt: 2025-07-23 04:48:54 -0400 (Wed, 23 Jul 2025) EndedAt: 2025-07-23 04:55:05 -0400 (Wed, 23 Jul 2025) EllapsedTime: 371.0 seconds RetCode: 0 Status: WARNINGS CheckDir: normr.Rcheck Warnings: 2