Package: normr Version: 1.35.0 Command: rm -rf normr.buildbin-libdir && mkdir normr.buildbin-libdir && /Users/biocbuild/BBS/utils/build-universal.sh normr_1.35.0.tar.gz /Library/Frameworks/R.framework/Resources/bin/R normr.buildbin-libdir StartedAt: 2025-07-15 01:10:00 -0400 (Tue, 15 Jul 2025) EndedAt: 2025-07-15 01:11:03 -0400 (Tue, 15 Jul 2025) EllapsedTime: 63.6 seconds RetCode: 0 Status: OK PackageFile: normr_1.35.0.tgz PackageFileSize: 4.18 MiB