Package: normalize450K Version: 1.37.0 Command: /home/biocbuild/bbs-3.22-bioc/R/bin/R CMD build --keep-empty-dirs --no-resave-data --md5 normalize450K StartedAt: 2025-07-15 18:19:04 -0400 (Tue, 15 Jul 2025) EndedAt: 2025-07-15 18:19:23 -0400 (Tue, 15 Jul 2025) EllapsedTime: 19.0 seconds RetCode: 0 Status: OK PackageFile: normalize450K_1.37.0.tar.gz PackageFileSize: 3.138 MiB