Package: normalize450K Version: 1.37.0 Command: /Library/Frameworks/R.framework/Resources/bin/R CMD INSTALL normalize450K StartedAt: 2025-07-01 15:28:11 -0400 (Tue, 01 Jul 2025) EndedAt: 2025-07-01 15:28:40 -0400 (Tue, 01 Jul 2025) EllapsedTime: 29.0 seconds RetCode: 0 Status: OK