Package: normalize450K Version: 1.37.0 Command: /Library/Frameworks/R.framework/Resources/bin/R CMD check --install=check:normalize450K.install-out.txt --library=/Library/Frameworks/R.framework/Resources/library --no-vignettes --timings normalize450K_1.37.0.tar.gz StartedAt: 2025-07-01 22:24:10 -0400 (Tue, 01 Jul 2025) EndedAt: 2025-07-01 22:24:51 -0400 (Tue, 01 Jul 2025) EllapsedTime: 41.4 seconds RetCode: 0 Status: OK CheckDir: normalize450K.Rcheck Warnings: 0