Package: normalize450K Version: 1.37.0 Command: /Library/Frameworks/R.framework/Resources/bin/R CMD build --keep-empty-dirs --no-resave-data normalize450K StartedAt: 2025-07-01 17:55:21 -0400 (Tue, 01 Jul 2025) EndedAt: 2025-07-01 17:55:45 -0400 (Tue, 01 Jul 2025) EllapsedTime: 24.0 seconds RetCode: 0 Status: OK PackageFile: normalize450K_1.37.0.tar.gz PackageFileSize: 3.137 MiB