Package: nondetects Version: 2.39.1 Command: /home/biocbuild/R/R/bin/R CMD INSTALL nondetects StartedAt: 2025-07-21 20:37:08 -0000 (Mon, 21 Jul 2025) EndedAt: 2025-07-21 20:37:19 -0000 (Mon, 21 Jul 2025) EllapsedTime: 10.9 seconds RetCode: 0 Status: OK