Package: nondetects Version: 2.39.1 Command: /home/biocbuild/R/R/bin/R CMD check --install=check:nondetects.install-out.txt --library=/home/biocbuild/R/R/site-library --no-vignettes --timings nondetects_2.39.1.tar.gz StartedAt: 2025-07-22 09:52:19 -0000 (Tue, 22 Jul 2025) EndedAt: 2025-07-22 10:02:08 -0000 (Tue, 22 Jul 2025) EllapsedTime: 588.8 seconds RetCode: 0 Status: OK CheckDir: nondetects.Rcheck Warnings: 0