Package: nondetects Version: 2.39.1 Command: /home/biocbuild/R/R/bin/R CMD build --keep-empty-dirs --no-resave-data nondetects StartedAt: 2025-07-22 01:35:27 -0000 (Tue, 22 Jul 2025) EndedAt: 2025-07-22 01:39:25 -0000 (Tue, 22 Jul 2025) EllapsedTime: 238.1 seconds RetCode: 0 Status: OK PackageFile: nondetects_2.39.1.tar.gz PackageFileSize: 118.1 KiB