Package: nondetects Version: 2.39.1 Command: F:\biocbuild\bbs-3.22-bioc\R\bin\R.exe CMD check --no-multiarch --install=check:nondetects.install-out.txt --library=F:\biocbuild\bbs-3.22-bioc\R\library --no-vignettes --timings nondetects_2.39.1.tar.gz StartedAt: 2025-08-15 05:54:30 -0400 (Fri, 15 Aug 2025) EndedAt: 2025-08-15 06:02:43 -0400 (Fri, 15 Aug 2025) EllapsedTime: 492.8 seconds RetCode: 0 Status: OK CheckDir: nondetects.Rcheck Warnings: 0