Package: nondetects Version: 2.39.1 Command: chmod a+r nondetects -R && F:\biocbuild\bbs-3.22-bioc\R\bin\R.exe CMD build --keep-empty-dirs --no-resave-data nondetects StartedAt: 2025-08-14 21:56:14 -0400 (Thu, 14 Aug 2025) EndedAt: 2025-08-14 21:59:26 -0400 (Thu, 14 Aug 2025) EllapsedTime: 191.9 seconds RetCode: 0 Status: OK PackageFile: nondetects_2.39.1.tar.gz PackageFileSize: 112.7 KiB