Package: nondetects Version: 2.39.1 Command: rm -rf nondetects.buildbin-libdir && mkdir nondetects.buildbin-libdir && F:\biocbuild\bbs-3.22-bioc\R\bin\R.exe CMD INSTALL --build --library=nondetects.buildbin-libdir nondetects_2.39.1.tar.gz StartedAt: 2025-08-15 10:51:10 -0400 (Fri, 15 Aug 2025) EndedAt: 2025-08-15 10:51:27 -0400 (Fri, 15 Aug 2025) EllapsedTime: 16.3 seconds RetCode: 0 Status: OK PackageFile: nondetects_2.39.1.zip PackageFileSize: 151.6 KiB