Package: nondetects Version: 2.39.1 Command: /home/biocbuild/bbs-3.22-bioc/R/bin/R CMD INSTALL nondetects StartedAt: 2025-07-07 15:59:10 -0400 (Mon, 07 Jul 2025) EndedAt: 2025-07-07 15:59:20 -0400 (Mon, 07 Jul 2025) EllapsedTime: 10.0 seconds RetCode: 0 Status: OK