Package: nondetects Version: 2.39.1 Command: /home/biocbuild/bbs-3.22-bioc/R/bin/R CMD check --install=check:nondetects.install-out.txt --library=/home/biocbuild/bbs-3.22-bioc/R/site-library --timings nondetects_2.39.1.tar.gz StartedAt: 2025-07-08 00:42:12 -0400 (Tue, 08 Jul 2025) EndedAt: 2025-07-08 00:48:31 -0400 (Tue, 08 Jul 2025) EllapsedTime: 378.5 seconds RetCode: 0 Status: OK CheckDir: nondetects.Rcheck Warnings: 0