Package: nondetects Version: 2.39.1 Command: /home/biocbuild/bbs-3.22-bioc/R/bin/R CMD build --keep-empty-dirs --no-resave-data --md5 nondetects StartedAt: 2025-07-07 18:21:49 -0400 (Mon, 07 Jul 2025) EndedAt: 2025-07-07 18:24:22 -0400 (Mon, 07 Jul 2025) EllapsedTime: 153.2 seconds RetCode: 0 Status: OK PackageFile: nondetects_2.39.1.tar.gz PackageFileSize: 131.5 KiB