Package: nondetects Version: 2.39.1 Command: /Library/Frameworks/R.framework/Resources/bin/R CMD check --install=check:nondetects.install-out.txt --library=/Library/Frameworks/R.framework/Resources/library --no-vignettes --timings nondetects_2.39.1.tar.gz StartedAt: 2025-10-05 23:16:57 -0400 (Sun, 05 Oct 2025) EndedAt: 2025-10-05 23:24:25 -0400 (Sun, 05 Oct 2025) EllapsedTime: 448.6 seconds RetCode: 0 Status: OK CheckDir: nondetects.Rcheck Warnings: 0