Package: nondetects Version: 2.39.1 Command: rm -rf nondetects.buildbin-libdir && mkdir nondetects.buildbin-libdir && /Users/biocbuild/BBS/utils/build-universal.sh nondetects_2.39.1.tar.gz /Library/Frameworks/R.framework/Resources/bin/R nondetects.buildbin-libdir StartedAt: 2025-10-06 02:14:16 -0400 (Mon, 06 Oct 2025) EndedAt: 2025-10-06 02:14:32 -0400 (Mon, 06 Oct 2025) EllapsedTime: 15.9 seconds RetCode: 0 Status: OK PackageFile: nondetects_2.39.1.tgz PackageFileSize: 169.7 KiB