Package: nondetects Version: 2.39.1 Command: /Library/Frameworks/R.framework/Resources/bin/R CMD check --install=check:nondetects.install-out.txt --library=/Library/Frameworks/R.framework/Resources/library --no-vignettes --timings nondetects_2.39.1.tar.gz StartedAt: 2025-07-14 20:28:51 -0400 (Mon, 14 Jul 2025) EndedAt: 2025-07-14 20:30:41 -0400 (Mon, 14 Jul 2025) EllapsedTime: 110.5 seconds RetCode: 0 Status: OK CheckDir: nondetects.Rcheck Warnings: 0