Package: nondetects Version: 2.39.1 Command: /Library/Frameworks/R.framework/Resources/bin/R CMD build --keep-empty-dirs --no-resave-data nondetects StartedAt: 2025-07-14 17:05:44 -0400 (Mon, 14 Jul 2025) EndedAt: 2025-07-14 17:06:28 -0400 (Mon, 14 Jul 2025) EllapsedTime: 43.5 seconds RetCode: 0 Status: OK PackageFile: nondetects_2.39.1.tar.gz PackageFileSize: 137.2 KiB