Package: nnSVG Version: 1.13.1 Command: F:\biocbuild\bbs-3.22-bioc\R\bin\R.exe CMD check --no-multiarch --install=check:nnSVG.install-out.txt --library=F:\biocbuild\bbs-3.22-bioc\R\library --no-vignettes --timings nnSVG_1.13.1.tar.gz StartedAt: 2025-07-23 04:46:42 -0400 (Wed, 23 Jul 2025) EndedAt: 2025-07-23 04:57:23 -0400 (Wed, 23 Jul 2025) EllapsedTime: 640.6 seconds RetCode: 0 Status: OK CheckDir: nnSVG.Rcheck Warnings: 0