Package: nnSVG Version: 1.13.1 Command: chmod a+r nnSVG -R && F:\biocbuild\bbs-3.22-bioc\R\bin\R.exe CMD build --keep-empty-dirs --no-resave-data nnSVG StartedAt: 2025-07-21 20:50:56 -0400 (Mon, 21 Jul 2025) EndedAt: 2025-07-21 21:03:16 -0400 (Mon, 21 Jul 2025) EllapsedTime: 740.3 seconds RetCode: 0 Status: OK PackageFile: nnSVG_1.13.1.tar.gz PackageFileSize: 451.9 KiB