############################################################################## ############################################################################## ### ### Running command: ### ### rm -rf nnSVG.buildbin-libdir && mkdir nnSVG.buildbin-libdir && F:\biocbuild\bbs-3.22-bioc\R\bin\R.exe CMD INSTALL --build --library=nnSVG.buildbin-libdir nnSVG_1.13.1.tar.gz ### ############################################################################## ############################################################################## * installing *source* package 'nnSVG' ... ** this is package 'nnSVG' version '1.13.1' ** using staged installation ** R ** inst ** byte-compile and prepare package for lazy loading ** help *** installing help indices ** building package indices ** installing vignettes ** testing if installed package can be loaded from temporary location ** testing if installed package can be loaded from final location ** testing if installed package keeps a record of temporary installation path * MD5 sums packaged installation of 'nnSVG' as nnSVG_1.13.1.zip * DONE (nnSVG)