Package: nnSVG Version: 1.13.1 Command: /Library/Frameworks/R.framework/Resources/bin/R CMD INSTALL nnSVG StartedAt: 2025-07-14 15:14:10 -0400 (Mon, 14 Jul 2025) EndedAt: 2025-07-14 15:14:19 -0400 (Mon, 14 Jul 2025) EllapsedTime: 9.0 seconds RetCode: 0 Status: OK