Package: nnSVG Version: 1.13.1 Command: /Library/Frameworks/R.framework/Resources/bin/R CMD check --install=check:nnSVG.install-out.txt --library=/Library/Frameworks/R.framework/Resources/library --no-vignettes --timings nnSVG_1.13.1.tar.gz StartedAt: 2025-07-14 20:28:46 -0400 (Mon, 14 Jul 2025) EndedAt: 2025-07-14 20:31:10 -0400 (Mon, 14 Jul 2025) EllapsedTime: 143.9 seconds RetCode: 0 Status: OK CheckDir: nnSVG.Rcheck Warnings: 0