Package: nnNorm Version: 2.73.0 Command: /home/biocbuild/R/R/bin/R CMD build --keep-empty-dirs --no-resave-data nnNorm StartedAt: 2025-07-25 02:28:05 -0000 (Fri, 25 Jul 2025) EndedAt: 2025-07-25 02:28:48 -0000 (Fri, 25 Jul 2025) EllapsedTime: 43.0 seconds RetCode: 0 Status: OK PackageFile: nnNorm_2.73.0.tar.gz PackageFileSize: 1.583 MiB