Package: nnNorm Version: 2.73.0 Command: F:\biocbuild\bbs-3.22-bioc\R\bin\R.exe CMD INSTALL nnNorm StartedAt: 2025-07-24 15:30:53 -0400 (Thu, 24 Jul 2025) EndedAt: 2025-07-24 15:31:04 -0400 (Thu, 24 Jul 2025) EllapsedTime: 11.1 seconds RetCode: 0 Status: OK