Package: nnNorm Version: 2.73.0 Command: chmod a+r nnNorm -R && F:\biocbuild\bbs-3.22-bioc\R\bin\R.exe CMD build --keep-empty-dirs --no-resave-data nnNorm StartedAt: 2025-07-24 21:00:21 -0400 (Thu, 24 Jul 2025) EndedAt: 2025-07-24 21:01:31 -0400 (Thu, 24 Jul 2025) EllapsedTime: 70.8 seconds RetCode: 0 Status: OK PackageFile: nnNorm_2.73.0.tar.gz PackageFileSize: 1.495 MiB