Package: nnNorm Version: 2.73.0 Command: /Library/Frameworks/R.framework/Resources/bin/R CMD INSTALL nnNorm StartedAt: 2025-07-22 15:05:52 -0400 (Tue, 22 Jul 2025) EndedAt: 2025-07-22 15:06:20 -0400 (Tue, 22 Jul 2025) EllapsedTime: 28.3 seconds RetCode: 0 Status: OK