Package: ngsReports Version: 2.11.0 Command: /home/biocbuild/R/R/bin/R CMD check --install=check:ngsReports.install-out.txt --library=/home/biocbuild/R/R/site-library --no-vignettes --timings ngsReports_2.11.0.tar.gz StartedAt: 2025-07-22 09:51:27 -0000 (Tue, 22 Jul 2025) EndedAt: 2025-07-22 09:55:47 -0000 (Tue, 22 Jul 2025) EllapsedTime: 259.4 seconds RetCode: 0 Status: OK CheckDir: ngsReports.Rcheck Warnings: 0