Package: ngsReports Version: 2.11.0 Command: rm -rf ngsReports.buildbin-libdir && mkdir ngsReports.buildbin-libdir && F:\biocbuild\bbs-3.22-bioc\R\bin\R.exe CMD INSTALL --build --library=ngsReports.buildbin-libdir ngsReports_2.11.0.tar.gz StartedAt: 2025-08-15 10:50:57 -0400 (Fri, 15 Aug 2025) EndedAt: 2025-08-15 10:52:28 -0400 (Fri, 15 Aug 2025) EllapsedTime: 91.9 seconds RetCode: 0 Status: OK PackageFile: ngsReports_2.11.0.zip PackageFileSize: 2.221 MiB