Package: ngsReports Version: 2.11.1 Command: /home/biocbuild/bbs-3.22-bioc/R/bin/R CMD INSTALL ngsReports StartedAt: 2025-10-05 15:37:13 -0400 (Sun, 05 Oct 2025) EndedAt: 2025-10-05 15:37:32 -0400 (Sun, 05 Oct 2025) EllapsedTime: 18.9 seconds RetCode: 0 Status: OK