Package: ngsReports Version: 2.11.1 Command: /home/biocbuild/bbs-3.22-bioc/R/bin/R CMD check --install=check:ngsReports.install-out.txt --library=/home/biocbuild/bbs-3.22-bioc/R/site-library --timings ngsReports_2.11.1.tar.gz StartedAt: 2025-10-06 02:27:22 -0400 (Mon, 06 Oct 2025) EndedAt: 2025-10-06 02:31:29 -0400 (Mon, 06 Oct 2025) EllapsedTime: 247.2 seconds RetCode: 0 Status: OK CheckDir: ngsReports.Rcheck Warnings: 0