Package: ngsReports Version: 2.11.0 Command: /Library/Frameworks/R.framework/Resources/bin/R CMD INSTALL ngsReports StartedAt: 2025-07-16 15:10:01 -0400 (Wed, 16 Jul 2025) EndedAt: 2025-07-16 15:10:09 -0400 (Wed, 16 Jul 2025) EllapsedTime: 7.7 seconds RetCode: 0 Status: OK