Package: netresponse Version: 1.69.0 Command: /home/biocbuild/R/R/bin/R CMD check --install=check:netresponse.install-out.txt --library=/home/biocbuild/R/R/site-library --no-vignettes --timings netresponse_1.69.0.tar.gz StartedAt: 2025-07-15 10:02:49 -0000 (Tue, 15 Jul 2025) EndedAt: 2025-07-15 10:04:33 -0000 (Tue, 15 Jul 2025) EllapsedTime: 104.2 seconds RetCode: 0 Status: OK CheckDir: netresponse.Rcheck Warnings: 0