Package: netresponse Version: 1.69.0 Command: F:\biocbuild\bbs-3.22-bioc\R\bin\R.exe CMD INSTALL netresponse StartedAt: 2025-07-01 16:53:28 -0400 (Tue, 01 Jul 2025) EndedAt: 2025-07-01 16:54:42 -0400 (Tue, 01 Jul 2025) EllapsedTime: 74.0 seconds RetCode: 0 Status: OK